BEGIN:VCALENDAR
VERSION:2.0
PRODID:-//Sabre//Sabre VObject 4.5.8//EN
CALSCALE:GREGORIAN
BEGIN:VEVENT
UID:sabre-vobject-d2b66d96-4b70-4e4a-920f-b7042f0c5475
DTSTAMP:20260420T033412Z
SUMMARY:IMCOM - Europe Flag Football Championship
DESCRIPTION:
X-ALT-DESC:FMTTYPE=text/html:<!DOCTYPE HTML PUBLIC "-//W3C//DTD HTML 3.2//E
 N"><HTML></HTML>
CREATED;TZID=Europe/Oslo:20241007T084540
URL;VALUE=URI:https://hohenfels.armymwr.com/calendar/event
DTSTART;TZID=Europe/Oslo:20241018T103000
DTEND;TZID=Europe/Oslo:20241018T140000
SEQUENCE:0
END:VEVENT
END:VCALENDAR
