BEGIN:VCALENDAR
VERSION:2.0
PRODID:-//Sabre//Sabre VObject 4.5.8//EN
CALSCALE:GREGORIAN
BEGIN:VEVENT
UID:sabre-vobject-525a209c-148e-47d1-aacb-222c5efe53df
DTSTAMP:20260424T100850Z
SUMMARY:Winter Holiday Craft
DESCRIPTION:Get into the holiday spirit!\n
X-ALT-DESC:FMTTYPE=text/html:<!DOCTYPE HTML PUBLIC "-//W3C//DTD HTML 3.2//E
 N"><HTML><p>Get into the holiday spirit!</p>\n</HTML>
CREATED;TZID=Europe/Oslo:20230512T105213
URL;VALUE=URI:https://hohenfels.armymwr.com/calendar/event
DTSTART;TZID=Europe/Oslo:20221206T000000
DTEND;TZID=Europe/Oslo:20221217T235959
SEQUENCE:0
END:VEVENT
BEGIN:VEVENT
UID:sabre-vobject-78b58030-9906-4b3e-bc09-e26460d3f27f
DTSTAMP:20260424T100850Z
SUMMARY:Winter Holiday Craft
DESCRIPTION:Get into the holiday spirit!\n
X-ALT-DESC:FMTTYPE=text/html:<!DOCTYPE HTML PUBLIC "-//W3C//DTD HTML 3.2//E
 N"><HTML><p>Get into the holiday spirit!</p>\n</HTML>
CREATED;TZID=Europe/Oslo:20230512T105213
URL;VALUE=URI:https://hohenfels.armymwr.com/calendar/event
DTSTART;TZID=Europe/Oslo:20231212T140000
DTEND;TZID=Europe/Oslo:20231212T160000
SEQUENCE:1
END:VEVENT
BEGIN:VEVENT
UID:sabre-vobject-d7da7f28-07d4-4c69-8509-b871e613673f
DTSTAMP:20260424T100850Z
SUMMARY:Winter Holiday Craft
DESCRIPTION:Get into the holiday spirit!\n
X-ALT-DESC:FMTTYPE=text/html:<!DOCTYPE HTML PUBLIC "-//W3C//DTD HTML 3.2//E
 N"><HTML><p>Get into the holiday spirit!</p>\n</HTML>
CREATED;TZID=Europe/Oslo:20230512T105213
URL;VALUE=URI:https://hohenfels.armymwr.com/calendar/event
DTSTART;TZID=Europe/Oslo:20231213T140000
DTEND;TZID=Europe/Oslo:20231213T160000
SEQUENCE:2
END:VEVENT
END:VCALENDAR
