BEGIN:VCALENDAR
VERSION:2.0
PRODID:-//Sabre//Sabre VObject 4.5.8//EN
CALSCALE:GREGORIAN
BEGIN:VEVENT
UID:sabre-vobject-4ec91cf1-87b1-46df-82d4-0c90de10715a
DTSTAMP:20260424T145122Z
SUMMARY:EFMP Movie at the Library
DESCRIPTION:Join EFMP at the Library for a Movie.\n
X-ALT-DESC:FMTTYPE=text/html:<!DOCTYPE HTML PUBLIC "-//W3C//DTD HTML 3.2//E
 N"><HTML><p>Join EFMP at the Library for a Movie.</p>\n</HTML>
CREATED;TZID=Europe/Oslo:20230125T134141
URL;VALUE=URI:https://hohenfels.armymwr.com/calendar/event
DTSTART;TZID=Europe/Oslo:20221006T143000
DTEND;TZID=Europe/Oslo:20221006T160000
SEQUENCE:0
END:VEVENT
BEGIN:VEVENT
UID:sabre-vobject-05607a4e-586f-40e1-9659-63acbfbebd16
DTSTAMP:20260424T145122Z
SUMMARY:EFMP Movie at the Library
DESCRIPTION:Join EFMP at the Library for a Movie.\n
X-ALT-DESC:FMTTYPE=text/html:<!DOCTYPE HTML PUBLIC "-//W3C//DTD HTML 3.2//E
 N"><HTML><p>Join EFMP at the Library for a Movie.</p>\n</HTML>
CREATED;TZID=Europe/Oslo:20230125T134141
URL;VALUE=URI:https://hohenfels.armymwr.com/calendar/event
DTSTART;TZID=Europe/Oslo:20221110T143000
DTEND;TZID=Europe/Oslo:20221110T160000
SEQUENCE:1
END:VEVENT
BEGIN:VEVENT
UID:sabre-vobject-da546ccb-bb69-4dc9-a4e7-92119b3c327b
DTSTAMP:20260424T145122Z
SUMMARY:EFMP Movie at the Library
DESCRIPTION:Join EFMP at the Library for a Movie.\n
X-ALT-DESC:FMTTYPE=text/html:<!DOCTYPE HTML PUBLIC "-//W3C//DTD HTML 3.2//E
 N"><HTML><p>Join EFMP at the Library for a Movie.</p>\n</HTML>
CREATED;TZID=Europe/Oslo:20230125T134141
URL;VALUE=URI:https://hohenfels.armymwr.com/calendar/event
DTSTART;TZID=Europe/Oslo:20230113T143000
DTEND;TZID=Europe/Oslo:20230113T160000
SEQUENCE:2
END:VEVENT
BEGIN:VEVENT
UID:sabre-vobject-4bd7edd7-a914-4877-bc03-af3241a20fd1
DTSTAMP:20260424T145122Z
SUMMARY:EFMP Movie at the Library
DESCRIPTION:Join EFMP at the Library for a Movie.\n
X-ALT-DESC:FMTTYPE=text/html:<!DOCTYPE HTML PUBLIC "-//W3C//DTD HTML 3.2//E
 N"><HTML><p>Join EFMP at the Library for a Movie.</p>\n</HTML>
CREATED;TZID=Europe/Oslo:20230125T134141
URL;VALUE=URI:https://hohenfels.armymwr.com/calendar/event
DTSTART;TZID=Europe/Oslo:20230209T143000
DTEND;TZID=Europe/Oslo:20230209T160000
SEQUENCE:3
END:VEVENT
BEGIN:VEVENT
UID:sabre-vobject-c5bf636a-f7df-42e2-b84c-24a170452874
DTSTAMP:20260424T145122Z
SUMMARY:EFMP Movie at the Library
DESCRIPTION:Join EFMP at the Library for a Movie.\n
X-ALT-DESC:FMTTYPE=text/html:<!DOCTYPE HTML PUBLIC "-//W3C//DTD HTML 3.2//E
 N"><HTML><p>Join EFMP at the Library for a Movie.</p>\n</HTML>
CREATED;TZID=Europe/Oslo:20230125T134141
URL;VALUE=URI:https://hohenfels.armymwr.com/calendar/event
DTSTART;TZID=Europe/Oslo:20221202T143000
DTEND;TZID=Europe/Oslo:20221202T160000
SEQUENCE:4
END:VEVENT
BEGIN:VEVENT
UID:sabre-vobject-eaf8f12c-97cd-4a12-86d8-319b70cadcc5
DTSTAMP:20260424T145122Z
SUMMARY:EFMP Movie at the Library
DESCRIPTION:Join EFMP at the Library for a Movie.\n
X-ALT-DESC:FMTTYPE=text/html:<!DOCTYPE HTML PUBLIC "-//W3C//DTD HTML 3.2//E
 N"><HTML><p>Join EFMP at the Library for a Movie.</p>\n</HTML>
CREATED;TZID=Europe/Oslo:20230125T134141
URL;VALUE=URI:https://hohenfels.armymwr.com/calendar/event
DTSTART;TZID=Europe/Oslo:20230510T143000
DTEND;TZID=Europe/Oslo:20230510T163000
SEQUENCE:5
END:VEVENT
BEGIN:VEVENT
UID:sabre-vobject-ed7df7a1-c8d3-4183-8c47-e3850a26e0fc
DTSTAMP:20260424T145122Z
SUMMARY:EFMP Movie at the Library
DESCRIPTION:Join EFMP at the Library for a Movie.\n
X-ALT-DESC:FMTTYPE=text/html:<!DOCTYPE HTML PUBLIC "-//W3C//DTD HTML 3.2//E
 N"><HTML><p>Join EFMP at the Library for a Movie.</p>\n</HTML>
CREATED;TZID=Europe/Oslo:20230125T134141
URL;VALUE=URI:https://hohenfels.armymwr.com/calendar/event
DTSTART;TZID=Europe/Oslo:20230810T143000
DTEND;TZID=Europe/Oslo:20230810T163000
SEQUENCE:6
END:VEVENT
BEGIN:VEVENT
UID:sabre-vobject-72a87e03-760e-4fef-850c-f959d3d27b51
DTSTAMP:20260424T145122Z
SUMMARY:EFMP Movie at the Library
DESCRIPTION:Join EFMP at the Library for a Movie.\n
X-ALT-DESC:FMTTYPE=text/html:<!DOCTYPE HTML PUBLIC "-//W3C//DTD HTML 3.2//E
 N"><HTML><p>Join EFMP at the Library for a Movie.</p>\n</HTML>
CREATED;TZID=Europe/Oslo:20230125T134141
URL;VALUE=URI:https://hohenfels.armymwr.com/calendar/event
DTSTART;TZID=Europe/Oslo:20231109T143000
DTEND;TZID=Europe/Oslo:20231109T163000
SEQUENCE:7
END:VEVENT
END:VCALENDAR
