BEGIN:VCALENDAR
VERSION:2.0
PRODID:-//Sabre//Sabre VObject 4.5.8//EN
CALSCALE:GREGORIAN
BEGIN:VEVENT
UID:sabre-vobject-d750aa79-86ef-4c75-bfef-8376b325abc4
DTSTAMP:20260420T063252Z
SUMMARY:Community Playdate
DESCRIPTION:Mingle with others and learn about living in Germany!\n
X-ALT-DESC:FMTTYPE=text/html:<!DOCTYPE HTML PUBLIC "-//W3C//DTD HTML 3.2//E
 N"><HTML><p>Mingle with others and learn about living in Germany!</p>\n</H
 TML>
CREATED;TZID=Europe/Oslo:20220525T134605
URL;VALUE=URI:https://hohenfels.armymwr.com/calendar/event
DTSTART;TZID=Europe/Oslo:20220623T100000
DTEND;TZID=Europe/Oslo:20220623T113000
SEQUENCE:0
END:VEVENT
BEGIN:VEVENT
UID:sabre-vobject-2f47fb3a-063c-4b45-9e4b-8534df6648d3
DTSTAMP:20260420T063252Z
SUMMARY:Community Playdate
DESCRIPTION:Mingle with others and learn about living in Germany!\n
X-ALT-DESC:FMTTYPE=text/html:<!DOCTYPE HTML PUBLIC "-//W3C//DTD HTML 3.2//E
 N"><HTML><p>Mingle with others and learn about living in Germany!</p>\n</H
 TML>
CREATED;TZID=Europe/Oslo:20220525T134605
URL;VALUE=URI:https://hohenfels.armymwr.com/calendar/event
DTSTART;TZID=Europe/Oslo:20220721T100000
DTEND;TZID=Europe/Oslo:20220721T113000
SEQUENCE:1
END:VEVENT
BEGIN:VEVENT
UID:sabre-vobject-9ca321a3-f4a9-42be-a8af-d20a54e3c448
DTSTAMP:20260420T063252Z
SUMMARY:Community Playdate
DESCRIPTION:Mingle with others and learn about living in Germany!\n
X-ALT-DESC:FMTTYPE=text/html:<!DOCTYPE HTML PUBLIC "-//W3C//DTD HTML 3.2//E
 N"><HTML><p>Mingle with others and learn about living in Germany!</p>\n</H
 TML>
CREATED;TZID=Europe/Oslo:20220525T134605
URL;VALUE=URI:https://hohenfels.armymwr.com/calendar/event
DTSTART;TZID=Europe/Oslo:20220804T100000
DTEND;TZID=Europe/Oslo:20220804T113000
SEQUENCE:2
END:VEVENT
BEGIN:VEVENT
UID:sabre-vobject-07a322f2-32e7-40a3-bee3-a2c37162c2a8
DTSTAMP:20260420T063252Z
SUMMARY:Community Playdate
DESCRIPTION:Mingle with others and learn about living in Germany!\n
X-ALT-DESC:FMTTYPE=text/html:<!DOCTYPE HTML PUBLIC "-//W3C//DTD HTML 3.2//E
 N"><HTML><p>Mingle with others and learn about living in Germany!</p>\n</H
 TML>
CREATED;TZID=Europe/Oslo:20220525T134605
URL;VALUE=URI:https://hohenfels.armymwr.com/calendar/event
DTSTART;TZID=Europe/Oslo:20220818T100000
DTEND;TZID=Europe/Oslo:20220818T113000
SEQUENCE:3
END:VEVENT
END:VCALENDAR
