BEGIN:VCALENDAR
VERSION:2.0
PRODID:-//Sabre//Sabre VObject 4.5.8//EN
CALSCALE:GREGORIAN
BEGIN:VEVENT
UID:sabre-vobject-eacc87b8-cf00-42af-8be9-8d4e3576ceba
DTSTAMP:20260422T064715Z
SUMMARY:Raising Good Humans
DESCRIPTION:This Virtual Workshop is based on Hunter Clarke-Fields book on 
 &quot\;Raising Good Humans&quot\; which is&nbsp\; guide to breaking the cy
 cle of reactive parenting and raising kind and confident kids.\n
X-ALT-DESC:FMTTYPE=text/html:<!DOCTYPE HTML PUBLIC "-//W3C//DTD HTML 3.2//E
 N"><HTML><p>This Virtual Workshop is based on Hunter Clarke-Fields book on
  &quot\;Raising Good Humans&quot\; which is&nbsp\; guide to breaking the c
 ycle of reactive parenting and raising kind and confident kids.</p>\n</HTM
 L>
CREATED;TZID=Europe/Oslo:20230828T144652
URL;VALUE=URI:https://hohenfels.armymwr.com/calendar/event
DTSTART;TZID=Europe/Oslo:20220614T120000
DTEND;TZID=Europe/Oslo:20220614T130000
SEQUENCE:0
END:VEVENT
BEGIN:VEVENT
UID:sabre-vobject-3dc5407a-d072-4a37-99b9-72b506551248
DTSTAMP:20260422T064715Z
SUMMARY:Raising Good Humans
DESCRIPTION:This Virtual Workshop is based on Hunter Clarke-Fields book on 
 &quot\;Raising Good Humans&quot\; which is&nbsp\; guide to breaking the cy
 cle of reactive parenting and raising kind and confident kids.\n
X-ALT-DESC:FMTTYPE=text/html:<!DOCTYPE HTML PUBLIC "-//W3C//DTD HTML 3.2//E
 N"><HTML><p>This Virtual Workshop is based on Hunter Clarke-Fields book on
  &quot\;Raising Good Humans&quot\; which is&nbsp\; guide to breaking the c
 ycle of reactive parenting and raising kind and confident kids.</p>\n</HTM
 L>
CREATED;TZID=Europe/Oslo:20230828T144652
URL;VALUE=URI:https://hohenfels.armymwr.com/calendar/event
DTSTART;TZID=Europe/Oslo:20220621T173000
DTEND;TZID=Europe/Oslo:20220621T183000
SEQUENCE:1
END:VEVENT
BEGIN:VEVENT
UID:sabre-vobject-2bd3b147-49ee-4ef0-b344-836d9ecc94e7
DTSTAMP:20260422T064715Z
SUMMARY:Raising Good Humans
DESCRIPTION:This Virtual Workshop is based on Hunter Clarke-Fields book on 
 &quot\;Raising Good Humans&quot\; which is&nbsp\; guide to breaking the cy
 cle of reactive parenting and raising kind and confident kids.\n
X-ALT-DESC:FMTTYPE=text/html:<!DOCTYPE HTML PUBLIC "-//W3C//DTD HTML 3.2//E
 N"><HTML><p>This Virtual Workshop is based on Hunter Clarke-Fields book on
  &quot\;Raising Good Humans&quot\; which is&nbsp\; guide to breaking the c
 ycle of reactive parenting and raising kind and confident kids.</p>\n</HTM
 L>
CREATED;TZID=Europe/Oslo:20230828T144652
URL;VALUE=URI:https://hohenfels.armymwr.com/calendar/event
DTSTART;TZID=Europe/Oslo:20220629T173000
DTEND;TZID=Europe/Oslo:20220629T183000
SEQUENCE:2
END:VEVENT
BEGIN:VEVENT
UID:sabre-vobject-11d042be-5e39-4348-99af-10a664fd12cd
DTSTAMP:20260422T064715Z
SUMMARY:Raising Good Humans
DESCRIPTION:This Virtual Workshop is based on Hunter Clarke-Fields book on 
 &quot\;Raising Good Humans&quot\; which is&nbsp\; guide to breaking the cy
 cle of reactive parenting and raising kind and confident kids.\n
X-ALT-DESC:FMTTYPE=text/html:<!DOCTYPE HTML PUBLIC "-//W3C//DTD HTML 3.2//E
 N"><HTML><p>This Virtual Workshop is based on Hunter Clarke-Fields book on
  &quot\;Raising Good Humans&quot\; which is&nbsp\; guide to breaking the c
 ycle of reactive parenting and raising kind and confident kids.</p>\n</HTM
 L>
CREATED;TZID=Europe/Oslo:20230828T144652
URL;VALUE=URI:https://hohenfels.armymwr.com/calendar/event
DTSTART;TZID=Europe/Oslo:20231016T130000
DTEND;TZID=Europe/Oslo:20231016T140000
SEQUENCE:3
END:VEVENT
END:VCALENDAR
