BEGIN:VCALENDAR
VERSION:2.0
PRODID:-//Sabre//Sabre VObject 4.5.8//EN
CALSCALE:GREGORIAN
BEGIN:VEVENT
UID:sabre-vobject-54683050-ddf1-4b1b-8d9d-e7d10653be39
DTSTAMP:20260426T013850Z
SUMMARY:Command Family Readiness Representative (CFRR) & SFRG Leader Traini
 ng
DESCRIPTION:Join us for this Virtual Mobilization\, Deployment &amp\; Stabi
 lity Support Operations Training\n
X-ALT-DESC:FMTTYPE=text/html:<!DOCTYPE HTML PUBLIC "-//W3C//DTD HTML 3.2//E
 N"><HTML><p>Join us for this Virtual Mobilization\, Deployment &amp\; Stab
 ility Support Operations Training</p>\n</HTML>
CREATED;TZID=Europe/Oslo:20230828T152502
URL;VALUE=URI:https://hohenfels.armymwr.com/calendar/event
DTSTART;TZID=Europe/Oslo:20220308T090000
DTEND;TZID=Europe/Oslo:20220308T130000
SEQUENCE:0
END:VEVENT
BEGIN:VEVENT
UID:sabre-vobject-1d3f311e-10ba-4282-a4a5-2263684e3dfc
DTSTAMP:20260426T013850Z
SUMMARY:Command Family Readiness Representative (CFRR) & SFRG Leader Traini
 ng
DESCRIPTION:Join us for this Virtual Mobilization\, Deployment &amp\; Stabi
 lity Support Operations Training\n
X-ALT-DESC:FMTTYPE=text/html:<!DOCTYPE HTML PUBLIC "-//W3C//DTD HTML 3.2//E
 N"><HTML><p>Join us for this Virtual Mobilization\, Deployment &amp\; Stab
 ility Support Operations Training</p>\n</HTML>
CREATED;TZID=Europe/Oslo:20230828T152502
URL;VALUE=URI:https://hohenfels.armymwr.com/calendar/event
DTSTART;TZID=Europe/Oslo:20220412T090000
DTEND;TZID=Europe/Oslo:20220412T130000
SEQUENCE:1
END:VEVENT
BEGIN:VEVENT
UID:sabre-vobject-b88ce74f-788e-4120-b1f9-377b330c3e92
DTSTAMP:20260426T013850Z
SUMMARY:Command Family Readiness Representative (CFRR) & SFRG Leader Traini
 ng
DESCRIPTION:Join us for this Virtual Mobilization\, Deployment &amp\; Stabi
 lity Support Operations Training\n
X-ALT-DESC:FMTTYPE=text/html:<!DOCTYPE HTML PUBLIC "-//W3C//DTD HTML 3.2//E
 N"><HTML><p>Join us for this Virtual Mobilization\, Deployment &amp\; Stab
 ility Support Operations Training</p>\n</HTML>
CREATED;TZID=Europe/Oslo:20230828T152502
URL;VALUE=URI:https://hohenfels.armymwr.com/calendar/event
DTSTART;TZID=Europe/Oslo:20230307T090000
DTEND;TZID=Europe/Oslo:20230307T100000
SEQUENCE:2
END:VEVENT
BEGIN:VEVENT
UID:sabre-vobject-2ac189c0-c1e2-454e-91dd-32d709ac3f24
DTSTAMP:20260426T013850Z
SUMMARY:Command Family Readiness Representative (CFRR) & SFRG Leader Traini
 ng
DESCRIPTION:Join us for this Virtual Mobilization\, Deployment &amp\; Stabi
 lity Support Operations Training\n
X-ALT-DESC:FMTTYPE=text/html:<!DOCTYPE HTML PUBLIC "-//W3C//DTD HTML 3.2//E
 N"><HTML><p>Join us for this Virtual Mobilization\, Deployment &amp\; Stab
 ility Support Operations Training</p>\n</HTML>
CREATED;TZID=Europe/Oslo:20230828T152502
URL;VALUE=URI:https://hohenfels.armymwr.com/calendar/event
DTSTART;TZID=Europe/Oslo:20230405T090000
DTEND;TZID=Europe/Oslo:20230405T100000
SEQUENCE:3
END:VEVENT
BEGIN:VEVENT
UID:sabre-vobject-f1374cdb-1090-4e39-b417-650f72470bd6
DTSTAMP:20260426T013850Z
SUMMARY:Command Family Readiness Representative (CFRR) & SFRG Leader Traini
 ng
DESCRIPTION:Join us for this Virtual Mobilization\, Deployment &amp\; Stabi
 lity Support Operations Training\n
X-ALT-DESC:FMTTYPE=text/html:<!DOCTYPE HTML PUBLIC "-//W3C//DTD HTML 3.2//E
 N"><HTML><p>Join us for this Virtual Mobilization\, Deployment &amp\; Stab
 ility Support Operations Training</p>\n</HTML>
CREATED;TZID=Europe/Oslo:20230828T152502
URL;VALUE=URI:https://hohenfels.armymwr.com/calendar/event
DTSTART;TZID=Europe/Oslo:20230510T090000
DTEND;TZID=Europe/Oslo:20230510T150000
SEQUENCE:4
END:VEVENT
BEGIN:VEVENT
UID:sabre-vobject-8149e8e0-0cbc-4b60-97bd-0a0dbf1f92f0
DTSTAMP:20260426T013850Z
SUMMARY:Command Family Readiness Representative (CFRR) & SFRG Leader Traini
 ng
DESCRIPTION:Join us for this Virtual Mobilization\, Deployment &amp\; Stabi
 lity Support Operations Training\n
X-ALT-DESC:FMTTYPE=text/html:<!DOCTYPE HTML PUBLIC "-//W3C//DTD HTML 3.2//E
 N"><HTML><p>Join us for this Virtual Mobilization\, Deployment &amp\; Stab
 ility Support Operations Training</p>\n</HTML>
CREATED;TZID=Europe/Oslo:20230828T152502
URL;VALUE=URI:https://hohenfels.armymwr.com/calendar/event
DTSTART;TZID=Europe/Oslo:20230607T090000
DTEND;TZID=Europe/Oslo:20230607T150000
SEQUENCE:5
END:VEVENT
BEGIN:VEVENT
UID:sabre-vobject-76416b91-564c-4ae0-b57f-090bba53db41
DTSTAMP:20260426T013850Z
SUMMARY:Command Family Readiness Representative (CFRR) & SFRG Leader Traini
 ng
DESCRIPTION:Join us for this Virtual Mobilization\, Deployment &amp\; Stabi
 lity Support Operations Training\n
X-ALT-DESC:FMTTYPE=text/html:<!DOCTYPE HTML PUBLIC "-//W3C//DTD HTML 3.2//E
 N"><HTML><p>Join us for this Virtual Mobilization\, Deployment &amp\; Stab
 ility Support Operations Training</p>\n</HTML>
CREATED;TZID=Europe/Oslo:20230828T152502
URL;VALUE=URI:https://hohenfels.armymwr.com/calendar/event
DTSTART;TZID=Europe/Oslo:20230712T090000
DTEND;TZID=Europe/Oslo:20230712T150000
SEQUENCE:6
END:VEVENT
BEGIN:VEVENT
UID:sabre-vobject-12c8823f-b8cc-42de-b6ef-33e95a2549d7
DTSTAMP:20260426T013850Z
SUMMARY:Command Family Readiness Representative (CFRR) & SFRG Leader Traini
 ng
DESCRIPTION:Join us for this Virtual Mobilization\, Deployment &amp\; Stabi
 lity Support Operations Training\n
X-ALT-DESC:FMTTYPE=text/html:<!DOCTYPE HTML PUBLIC "-//W3C//DTD HTML 3.2//E
 N"><HTML><p>Join us for this Virtual Mobilization\, Deployment &amp\; Stab
 ility Support Operations Training</p>\n</HTML>
CREATED;TZID=Europe/Oslo:20230828T152502
URL;VALUE=URI:https://hohenfels.armymwr.com/calendar/event
DTSTART;TZID=Europe/Oslo:20230816T090000
DTEND;TZID=Europe/Oslo:20230816T150000
SEQUENCE:7
END:VEVENT
BEGIN:VEVENT
UID:sabre-vobject-26345780-775b-442d-9e0d-77d620ea1adf
DTSTAMP:20260426T013850Z
SUMMARY:Command Family Readiness Representative (CFRR) & SFRG Leader Traini
 ng
DESCRIPTION:Join us for this Virtual Mobilization\, Deployment &amp\; Stabi
 lity Support Operations Training\n
X-ALT-DESC:FMTTYPE=text/html:<!DOCTYPE HTML PUBLIC "-//W3C//DTD HTML 3.2//E
 N"><HTML><p>Join us for this Virtual Mobilization\, Deployment &amp\; Stab
 ility Support Operations Training</p>\n</HTML>
CREATED;TZID=Europe/Oslo:20230828T152502
URL;VALUE=URI:https://hohenfels.armymwr.com/calendar/event
DTSTART;TZID=Europe/Oslo:20230913T090000
DTEND;TZID=Europe/Oslo:20230913T150000
SEQUENCE:8
END:VEVENT
BEGIN:VEVENT
UID:sabre-vobject-48adeb23-c7be-4e39-8620-da85db8527ff
DTSTAMP:20260426T013850Z
SUMMARY:Command Family Readiness Representative (CFRR) & SFRG Leader Traini
 ng
DESCRIPTION:Join us for this Virtual Mobilization\, Deployment &amp\; Stabi
 lity Support Operations Training\n
X-ALT-DESC:FMTTYPE=text/html:<!DOCTYPE HTML PUBLIC "-//W3C//DTD HTML 3.2//E
 N"><HTML><p>Join us for this Virtual Mobilization\, Deployment &amp\; Stab
 ility Support Operations Training</p>\n</HTML>
CREATED;TZID=Europe/Oslo:20230828T152502
URL;VALUE=URI:https://hohenfels.armymwr.com/calendar/event
DTSTART;TZID=Europe/Oslo:20231011T090000
DTEND;TZID=Europe/Oslo:20231011T150000
SEQUENCE:9
END:VEVENT
END:VCALENDAR
