BEGIN:VCALENDAR
VERSION:2.0
PRODID:-//Sabre//Sabre VObject 4.5.8//EN
CALSCALE:GREGORIAN
BEGIN:VEVENT
UID:sabre-vobject-248b09ba-010c-4cee-b1cc-90727772292d
DTSTAMP:20260422T112838Z
SUMMARY:Financial Readiness: Planning for your Financial Future
DESCRIPTION:Tips to Secure a Strong Financial Future\n
X-ALT-DESC:FMTTYPE=text/html:<!DOCTYPE HTML PUBLIC "-//W3C//DTD HTML 3.2//E
 N"><HTML><p>Tips to Secure a Strong Financial Future</p>\n</HTML>
CREATED;TZID=Europe/Oslo:20230828T110801
URL;VALUE=URI:https://hohenfels.armymwr.com/calendar/event
DTSTART;TZID=Europe/Oslo:20210714T150000
DTEND;TZID=Europe/Oslo:20210714T160000
SEQUENCE:0
END:VEVENT
BEGIN:VEVENT
UID:sabre-vobject-b445db3a-c741-440e-8eb1-697f765b48ac
DTSTAMP:20260422T112838Z
SUMMARY:Financial Readiness: Planning for your Financial Future
DESCRIPTION:Tips to Secure a Strong Financial Future\n
X-ALT-DESC:FMTTYPE=text/html:<!DOCTYPE HTML PUBLIC "-//W3C//DTD HTML 3.2//E
 N"><HTML><p>Tips to Secure a Strong Financial Future</p>\n</HTML>
CREATED;TZID=Europe/Oslo:20230828T110801
URL;VALUE=URI:https://hohenfels.armymwr.com/calendar/event
DTSTART;TZID=Europe/Oslo:20220608T150000
DTEND;TZID=Europe/Oslo:20220608T160000
SEQUENCE:1
END:VEVENT
BEGIN:VEVENT
UID:sabre-vobject-13ffb408-6eb4-4628-b013-27cc1d381a9d
DTSTAMP:20260422T112838Z
SUMMARY:Financial Readiness: Planning for your Financial Future
DESCRIPTION:Tips to Secure a Strong Financial Future\n
X-ALT-DESC:FMTTYPE=text/html:<!DOCTYPE HTML PUBLIC "-//W3C//DTD HTML 3.2//E
 N"><HTML><p>Tips to Secure a Strong Financial Future</p>\n</HTML>
CREATED;TZID=Europe/Oslo:20230828T110801
URL;VALUE=URI:https://hohenfels.armymwr.com/calendar/event
DTSTART;TZID=Europe/Oslo:20220803T170000
DTEND;TZID=Europe/Oslo:20220803T180000
SEQUENCE:2
END:VEVENT
BEGIN:VEVENT
UID:sabre-vobject-d73be50f-400a-425c-a305-5bab9a895f5c
DTSTAMP:20260422T112838Z
SUMMARY:Financial Readiness: Planning for your Financial Future
DESCRIPTION:Tips to Secure a Strong Financial Future\n
X-ALT-DESC:FMTTYPE=text/html:<!DOCTYPE HTML PUBLIC "-//W3C//DTD HTML 3.2//E
 N"><HTML><p>Tips to Secure a Strong Financial Future</p>\n</HTML>
CREATED;TZID=Europe/Oslo:20230828T110801
URL;VALUE=URI:https://hohenfels.armymwr.com/calendar/event
DTSTART;TZID=Europe/Oslo:20221012T150000
DTEND;TZID=Europe/Oslo:20221012T160000
SEQUENCE:3
END:VEVENT
BEGIN:VEVENT
UID:sabre-vobject-cb36d17e-3660-416e-8f78-81a6a2d17bda
DTSTAMP:20260422T112838Z
SUMMARY:Financial Readiness: Planning for your Financial Future
DESCRIPTION:Tips to Secure a Strong Financial Future\n
X-ALT-DESC:FMTTYPE=text/html:<!DOCTYPE HTML PUBLIC "-//W3C//DTD HTML 3.2//E
 N"><HTML><p>Tips to Secure a Strong Financial Future</p>\n</HTML>
CREATED;TZID=Europe/Oslo:20230828T110801
URL;VALUE=URI:https://hohenfels.armymwr.com/calendar/event
DTSTART;TZID=Europe/Oslo:20230111T150000
DTEND;TZID=Europe/Oslo:20230111T160000
SEQUENCE:4
END:VEVENT
BEGIN:VEVENT
UID:sabre-vobject-2bf85929-cd1c-4bc4-802b-fa9c0172f0d9
DTSTAMP:20260422T112838Z
SUMMARY:Financial Readiness: Planning for your Financial Future
DESCRIPTION:Tips to Secure a Strong Financial Future\n
X-ALT-DESC:FMTTYPE=text/html:<!DOCTYPE HTML PUBLIC "-//W3C//DTD HTML 3.2//E
 N"><HTML><p>Tips to Secure a Strong Financial Future</p>\n</HTML>
CREATED;TZID=Europe/Oslo:20230828T110801
URL;VALUE=URI:https://hohenfels.armymwr.com/calendar/event
DTSTART;TZID=Europe/Oslo:20230412T150000
DTEND;TZID=Europe/Oslo:20230412T160000
SEQUENCE:5
END:VEVENT
BEGIN:VEVENT
UID:sabre-vobject-cc407b22-239a-4449-ac98-85835237977b
DTSTAMP:20260422T112838Z
SUMMARY:Financial Readiness: Planning for your Financial Future
DESCRIPTION:Tips to Secure a Strong Financial Future\n
X-ALT-DESC:FMTTYPE=text/html:<!DOCTYPE HTML PUBLIC "-//W3C//DTD HTML 3.2//E
 N"><HTML><p>Tips to Secure a Strong Financial Future</p>\n</HTML>
CREATED;TZID=Europe/Oslo:20230828T110801
URL;VALUE=URI:https://hohenfels.armymwr.com/calendar/event
DTSTART;TZID=Europe/Oslo:20230412T170000
DTEND;TZID=Europe/Oslo:20230412T180000
SEQUENCE:6
END:VEVENT
BEGIN:VEVENT
UID:sabre-vobject-31875cda-aa61-472d-a077-a6f9a4a39001
DTSTAMP:20260422T112838Z
SUMMARY:Financial Readiness: Planning for your Financial Future
DESCRIPTION:Tips to Secure a Strong Financial Future\n
X-ALT-DESC:FMTTYPE=text/html:<!DOCTYPE HTML PUBLIC "-//W3C//DTD HTML 3.2//E
 N"><HTML><p>Tips to Secure a Strong Financial Future</p>\n</HTML>
CREATED;TZID=Europe/Oslo:20230828T110801
URL;VALUE=URI:https://hohenfels.armymwr.com/calendar/event
DTSTART;TZID=Europe/Oslo:20230712T150000
DTEND;TZID=Europe/Oslo:20230712T160000
SEQUENCE:7
END:VEVENT
BEGIN:VEVENT
UID:sabre-vobject-a1780025-e180-44a2-9dfe-382f13bffe39
DTSTAMP:20260422T112838Z
SUMMARY:Financial Readiness: Planning for your Financial Future
DESCRIPTION:Tips to Secure a Strong Financial Future\n
X-ALT-DESC:FMTTYPE=text/html:<!DOCTYPE HTML PUBLIC "-//W3C//DTD HTML 3.2//E
 N"><HTML><p>Tips to Secure a Strong Financial Future</p>\n</HTML>
CREATED;TZID=Europe/Oslo:20230828T110801
URL;VALUE=URI:https://hohenfels.armymwr.com/calendar/event
DTSTART;TZID=Europe/Oslo:20231011T150000
DTEND;TZID=Europe/Oslo:20231011T160000
SEQUENCE:8
END:VEVENT
END:VCALENDAR
