BEGIN:VCALENDAR
VERSION:2.0
PRODID:-//Sabre//Sabre VObject 4.5.8//EN
CALSCALE:GREGORIAN
BEGIN:VEVENT
UID:sabre-vobject-ea958430-8381-4893-b674-1cd0a33bec56
DTSTAMP:20260419T123021Z
SUMMARY:Heliski and Snowboard in Bormio-Livigno
DESCRIPTION:Come Heliskiing or snowboarding with Hohenfels Outdoor Recreati
 on in the Italian Alps.\n
X-ALT-DESC:FMTTYPE=text/html:<!DOCTYPE HTML PUBLIC "-//W3C//DTD HTML 3.2//E
 N"><HTML><p>Come Heliskiing or snowboarding with Hohenfels Outdoor Recreat
 ion in the Italian Alps.</p>\n</HTML>
CREATED;TZID=Europe/Oslo:20200309T120957
URL;VALUE=URI:https://hohenfels.armymwr.com/calendar/event
DTSTART;TZID=Europe/Oslo:20190320T000000
DTEND;TZID=Europe/Oslo:20190320T235959
SEQUENCE:0
END:VEVENT
END:VCALENDAR
