BEGIN:VCALENDAR
VERSION:2.0
PRODID:-//Sabre//Sabre VObject 4.5.8//EN
CALSCALE:GREGORIAN
BEGIN:VEVENT
UID:sabre-vobject-1f0b2cda-2307-41e7-8b2a-a14dc2d7bd5c
DTSTAMP:20260424T145123Z
SUMMARY:Survival German 401
DESCRIPTION:Add greater confidence\, vocabulary and enlightenment into your
  German language ability.\n
X-ALT-DESC:FMTTYPE=text/html:<!DOCTYPE HTML PUBLIC "-//W3C//DTD HTML 3.2//E
 N"><HTML><p>Add greater confidence\, vocabulary and enlightenment into you
 r German language ability.</p>\n</HTML>
CREATED;TZID=Europe/Oslo:20180627T110405
URL;VALUE=URI:https://hohenfels.armymwr.com/calendar/event
DTSTART;TZID=Europe/Oslo:20170508T093000
DTEND;TZID=Europe/Oslo:20170508T113000
SEQUENCE:0
END:VEVENT
BEGIN:VEVENT
UID:sabre-vobject-b8b0f623-de16-49ad-9ced-8f2a0473c875
DTSTAMP:20260424T145123Z
SUMMARY:Survival German 401
DESCRIPTION:Add greater confidence\, vocabulary and enlightenment into your
  German language ability.\n
X-ALT-DESC:FMTTYPE=text/html:<!DOCTYPE HTML PUBLIC "-//W3C//DTD HTML 3.2//E
 N"><HTML><p>Add greater confidence\, vocabulary and enlightenment into you
 r German language ability.</p>\n</HTML>
CREATED;TZID=Europe/Oslo:20180627T110405
URL;VALUE=URI:https://hohenfels.armymwr.com/calendar/event
DTSTART;TZID=Europe/Oslo:20180423T171500
DTEND;TZID=Europe/Oslo:20180423T191500
SEQUENCE:1
END:VEVENT
BEGIN:VEVENT
UID:sabre-vobject-df0aabf4-caa4-4f16-8973-8786bf67b0d8
DTSTAMP:20260424T145123Z
SUMMARY:Survival German 401
DESCRIPTION:Add greater confidence\, vocabulary and enlightenment into your
  German language ability.\n
X-ALT-DESC:FMTTYPE=text/html:<!DOCTYPE HTML PUBLIC "-//W3C//DTD HTML 3.2//E
 N"><HTML><p>Add greater confidence\, vocabulary and enlightenment into you
 r German language ability.</p>\n</HTML>
CREATED;TZID=Europe/Oslo:20180627T110405
URL;VALUE=URI:https://hohenfels.armymwr.com/calendar/event
DTSTART;TZID=Europe/Oslo:20180424T171500
DTEND;TZID=Europe/Oslo:20180424T191500
SEQUENCE:2
END:VEVENT
BEGIN:VEVENT
UID:sabre-vobject-829ff1ce-6476-4a1c-8984-3e8d67cac2c4
DTSTAMP:20260424T145123Z
SUMMARY:Survival German 401
DESCRIPTION:Add greater confidence\, vocabulary and enlightenment into your
  German language ability.\n
X-ALT-DESC:FMTTYPE=text/html:<!DOCTYPE HTML PUBLIC "-//W3C//DTD HTML 3.2//E
 N"><HTML><p>Add greater confidence\, vocabulary and enlightenment into you
 r German language ability.</p>\n</HTML>
CREATED;TZID=Europe/Oslo:20180627T110405
URL;VALUE=URI:https://hohenfels.armymwr.com/calendar/event
DTSTART;TZID=Europe/Oslo:20180425T171500
DTEND;TZID=Europe/Oslo:20180425T191500
SEQUENCE:3
END:VEVENT
BEGIN:VEVENT
UID:sabre-vobject-da370d01-a198-4cac-a178-df7158b69fae
DTSTAMP:20260424T145123Z
SUMMARY:Survival German 401
DESCRIPTION:Add greater confidence\, vocabulary and enlightenment into your
  German language ability.\n
X-ALT-DESC:FMTTYPE=text/html:<!DOCTYPE HTML PUBLIC "-//W3C//DTD HTML 3.2//E
 N"><HTML><p>Add greater confidence\, vocabulary and enlightenment into you
 r German language ability.</p>\n</HTML>
CREATED;TZID=Europe/Oslo:20180627T110405
URL;VALUE=URI:https://hohenfels.armymwr.com/calendar/event
DTSTART;TZID=Europe/Oslo:20180426T171500
DTEND;TZID=Europe/Oslo:20180426T191500
SEQUENCE:4
END:VEVENT
BEGIN:VEVENT
UID:sabre-vobject-60bddd06-8310-4d5e-bca0-2946008388f9
DTSTAMP:20260424T145123Z
SUMMARY:Survival German 401
DESCRIPTION:Add greater confidence\, vocabulary and enlightenment into your
  German language ability.\n
X-ALT-DESC:FMTTYPE=text/html:<!DOCTYPE HTML PUBLIC "-//W3C//DTD HTML 3.2//E
 N"><HTML><p>Add greater confidence\, vocabulary and enlightenment into you
 r German language ability.</p>\n</HTML>
CREATED;TZID=Europe/Oslo:20180627T110405
URL;VALUE=URI:https://hohenfels.armymwr.com/calendar/event
DTSTART;TZID=Europe/Oslo:20180718T093000
DTEND;TZID=Europe/Oslo:20180718T113000
SEQUENCE:5
END:VEVENT
BEGIN:VEVENT
UID:sabre-vobject-bf6fe77a-e9c4-4896-9b99-f89ca1dcacc4
DTSTAMP:20260424T145123Z
SUMMARY:Survival German 401
DESCRIPTION:Add greater confidence\, vocabulary and enlightenment into your
  German language ability.\n
X-ALT-DESC:FMTTYPE=text/html:<!DOCTYPE HTML PUBLIC "-//W3C//DTD HTML 3.2//E
 N"><HTML><p>Add greater confidence\, vocabulary and enlightenment into you
 r German language ability.</p>\n</HTML>
CREATED;TZID=Europe/Oslo:20180627T110405
URL;VALUE=URI:https://hohenfels.armymwr.com/calendar/event
DTSTART;TZID=Europe/Oslo:20180720T093000
DTEND;TZID=Europe/Oslo:20180720T113000
SEQUENCE:6
END:VEVENT
END:VCALENDAR
