BEGIN:VCALENDAR
VERSION:2.0
PRODID:-//Sabre//Sabre VObject 4.5.8//EN
CALSCALE:GREGORIAN
BEGIN:VEVENT
UID:sabre-vobject-f294def4-be39-44f4-ad04-04df052576f5
DTSTAMP:20260421T064010Z
SUMMARY:Basketball Registration - Unit Level
DESCRIPTION:Get signed up!\n
X-ALT-DESC:FMTTYPE=text/html:<!DOCTYPE HTML PUBLIC "-//W3C//DTD HTML 3.2//E
 N"><HTML><p>Get signed up!</p>\n</HTML>
CREATED;TZID=Europe/Oslo:20181030T101328
URL;VALUE=URI:https://hohenfels.armymwr.com/calendar/event
DTSTART;TZID=Europe/Oslo:20181113T000000
DTEND;TZID=Europe/Oslo:20181116T235959
SEQUENCE:0
END:VEVENT
END:VCALENDAR
