BEGIN:VCALENDAR
VERSION:2.0
PRODID:-//Sabre//Sabre VObject 4.5.8//EN
CALSCALE:GREGORIAN
BEGIN:VEVENT
UID:sabre-vobject-0255b9e4-1587-45fa-a5a8-fc0938a27313
DTSTAMP:20260421T084106Z
SUMMARY:MRT: Problem Solving 
DESCRIPTION:Learn to be resilient!\n
X-ALT-DESC:FMTTYPE=text/html:<!DOCTYPE HTML PUBLIC "-//W3C//DTD HTML 3.2//E
 N"><HTML><p>Learn to be resilient!</p>\n</HTML>
CREATED;TZID=Europe/Oslo:20181030T085742
URL;VALUE=URI:https://hohenfels.armymwr.com/calendar/event
DTSTART;TZID=Europe/Oslo:20181128T090000
DTEND;TZID=Europe/Oslo:20181128T110000
SEQUENCE:0
END:VEVENT
BEGIN:VEVENT
UID:sabre-vobject-45f27bbf-cd0f-4d27-a137-b16a347d76f4
DTSTAMP:20260421T084106Z
SUMMARY:MRT: Problem Solving 
DESCRIPTION:Learn to be resilient!\n
X-ALT-DESC:FMTTYPE=text/html:<!DOCTYPE HTML PUBLIC "-//W3C//DTD HTML 3.2//E
 N"><HTML><p>Learn to be resilient!</p>\n</HTML>
CREATED;TZID=Europe/Oslo:20181030T085742
URL;VALUE=URI:https://hohenfels.armymwr.com/calendar/event
DTSTART;TZID=Europe/Oslo:20181128T171500
DTEND;TZID=Europe/Oslo:20181128T191500
SEQUENCE:1
END:VEVENT
END:VCALENDAR
