BEGIN:VCALENDAR
VERSION:2.0
PRODID:-//Sabre//Sabre VObject 4.5.8//EN
CALSCALE:GREGORIAN
BEGIN:VEVENT
UID:sabre-vobject-a8f0b227-6a50-4558-8599-c65c7782e494
DTSTAMP:20260421T110528Z
SUMMARY:Adult Game Night
DESCRIPTION:Leave the kids at home!\n
X-ALT-DESC:FMTTYPE=text/html:<!DOCTYPE HTML PUBLIC "-//W3C//DTD HTML 3.2//E
 N"><HTML><p>Leave the kids at home!</p>\n</HTML>
CREATED;TZID=Europe/Oslo:20181025T111212
URL;VALUE=URI:https://hohenfels.armymwr.com/calendar/event
DTSTART;TZID=Europe/Oslo:20181102T190000
DTEND;TZID=Europe/Oslo:20181102T200000
SEQUENCE:0
END:VEVENT
END:VCALENDAR
