BEGIN:VCALENDAR
VERSION:2.0
PRODID:-//Sabre//Sabre VObject 4.5.8//EN
CALSCALE:GREGORIAN
BEGIN:VEVENT
UID:sabre-vobject-dab1b325-27ed-459e-b508-9b1c278b045d
DTSTAMP:20260422T040627Z
SUMMARY:Advanced Adventure Diver
DESCRIPTION:Improve and sharpen your diving skills!\n
X-ALT-DESC:FMTTYPE=text/html:<!DOCTYPE HTML PUBLIC "-//W3C//DTD HTML 3.2//E
 N"><HTML><p>Improve and sharpen your diving skills!</p>\n</HTML>
CREATED;TZID=Europe/Oslo:20180912T180510
URL;VALUE=URI:https://hohenfels.armymwr.com/calendar/event
DTSTART;TZID=Europe/Oslo:20181012T180000
DTEND;TZID=Europe/Oslo:20181013T190000
SEQUENCE:0
END:VEVENT
END:VCALENDAR
