BEGIN:VCALENDAR
VERSION:2.0
PRODID:-//Sabre//Sabre VObject 4.5.8//EN
CALSCALE:GREGORIAN
BEGIN:VEVENT
UID:sabre-vobject-8f76e505-4c86-49f7-8895-868a58c5acb0
DTSTAMP:20260421T015816Z
SUMMARY:Lauscha Christmas Market
DESCRIPTION:Stroll through an artisan village!\n
X-ALT-DESC:FMTTYPE=text/html:<!DOCTYPE HTML PUBLIC "-//W3C//DTD HTML 3.2//E
 N"><HTML><p>Stroll through an artisan village!</p>\n</HTML>
CREATED;TZID=Europe/Oslo:20180912T173331
URL;VALUE=URI:https://hohenfels.armymwr.com/calendar/event
DTSTART;TZID=Europe/Oslo:20181213T173000
DTEND;TZID=Europe/Oslo:20181213T183000
SEQUENCE:0
END:VEVENT
END:VCALENDAR
