BEGIN:VCALENDAR
VERSION:2.0
PRODID:-//Sabre//Sabre VObject 4.5.8//EN
CALSCALE:GREGORIAN
BEGIN:VEVENT
UID:sabre-vobject-030d2f46-a972-4405-bfec-1872e1817373
DTSTAMP:20260421T085825Z
SUMMARY:Vienna Christmas Market
DESCRIPTION:Visit several amazing Christmas Markets!\n
X-ALT-DESC:FMTTYPE=text/html:<!DOCTYPE HTML PUBLIC "-//W3C//DTD HTML 3.2//E
 N"><HTML><p>Visit several amazing Christmas Markets!</p>\n</HTML>
CREATED;TZID=Europe/Oslo:20180912T173842
URL;VALUE=URI:https://hohenfels.armymwr.com/calendar/event
DTSTART;TZID=Europe/Oslo:20181201T170000
DTEND;TZID=Europe/Oslo:20181201T180000
SEQUENCE:0
END:VEVENT
END:VCALENDAR
