BEGIN:VCALENDAR
VERSION:2.0
PRODID:-//Sabre//Sabre VObject 4.5.8//EN
CALSCALE:GREGORIAN
BEGIN:VEVENT
UID:sabre-vobject-0a91e0f0-adf6-44e4-b99d-b303dc5f1da5
DTSTAMP:20260421T085928Z
SUMMARY:Thanksgiving Ski and Snowboard Weekend in Solden
DESCRIPTION:Enjoy Thanksgiving in the Austrian Alps!\n
X-ALT-DESC:FMTTYPE=text/html:<!DOCTYPE HTML PUBLIC "-//W3C//DTD HTML 3.2//E
 N"><HTML><p>Enjoy Thanksgiving in the Austrian Alps!</p>\n</HTML>
CREATED;TZID=Europe/Oslo:20180912T171318
URL;VALUE=URI:https://hohenfels.armymwr.com/calendar/event
DTSTART;TZID=Europe/Oslo:20181122T000000
DTEND;TZID=Europe/Oslo:20181125T235959
SEQUENCE:0
END:VEVENT
END:VCALENDAR
