BEGIN:VCALENDAR
VERSION:2.0
PRODID:-//Sabre//Sabre VObject 4.5.8//EN
CALSCALE:GREGORIAN
BEGIN:VEVENT
UID:sabre-vobject-ac77cfb4-ce2f-4f5f-9dd3-10bd48431f9e
DTSTAMP:20260423T003201Z
SUMMARY:Country Hoedown Barn Dance 
DESCRIPTION:
X-ALT-DESC:FMTTYPE=text/html:<!DOCTYPE HTML PUBLIC "-//W3C//DTD HTML 3.2//E
 N"><HTML></HTML>
CREATED;TZID=Europe/Oslo:20180827T135748
URL;VALUE=URI:https://hohenfels.armymwr.com/calendar/event
DTSTART;TZID=Europe/Oslo:20180907T190000
DTEND;TZID=Europe/Oslo:20180907T200000
SEQUENCE:0
END:VEVENT
END:VCALENDAR
