BEGIN:VCALENDAR
VERSION:2.0
PRODID:-//Sabre//Sabre VObject 4.5.8//EN
CALSCALE:GREGORIAN
BEGIN:VEVENT
UID:sabre-vobject-5100d123-9ea1-4fe8-afee-012ee7dc353b
DTSTAMP:20260423T043437Z
SUMMARY:Parent Party
DESCRIPTION:Let&#39\;s drink to the first day of school!\n
X-ALT-DESC:FMTTYPE=text/html:<!DOCTYPE HTML PUBLIC "-//W3C//DTD HTML 3.2//E
 N"><HTML><p>Let&#39\;s drink to the first day of school!</p>\n</HTML>
CREATED;TZID=Europe/Oslo:20180822T114746
URL;VALUE=URI:https://hohenfels.armymwr.com/calendar/event
DTSTART;TZID=Europe/Oslo:20180827T080000
DTEND;TZID=Europe/Oslo:20180827T090000
SEQUENCE:0
END:VEVENT
END:VCALENDAR
