BEGIN:VCALENDAR
VERSION:2.0
PRODID:-//Sabre//Sabre VObject 4.5.8//EN
CALSCALE:GREGORIAN
BEGIN:VEVENT
UID:sabre-vobject-65c3f7f3-914d-47bd-9a26-db19cbd16e9d
DTSTAMP:20260423T092721Z
SUMMARY:National Lemonade Day
DESCRIPTION:Pucker up!\n
X-ALT-DESC:FMTTYPE=text/html:<!DOCTYPE HTML PUBLIC "-//W3C//DTD HTML 3.2//E
 N"><HTML><p>Pucker up!</p>\n</HTML>
CREATED;TZID=Europe/Oslo:20180813T160602
URL;VALUE=URI:https://hohenfels.armymwr.com/calendar/event
DTSTART;TZID=Europe/Oslo:20180820T000000
DTEND;TZID=Europe/Oslo:20180820T235959
SEQUENCE:0
END:VEVENT
END:VCALENDAR
