BEGIN:VCALENDAR
VERSION:2.0
PRODID:-//Sabre//Sabre VObject 4.5.8//EN
CALSCALE:GREGORIAN
BEGIN:VEVENT
UID:sabre-vobject-796f6028-2456-4241-a30a-63f31c55e529
DTSTAMP:20260423T143140Z
SUMMARY:Toga Party
DESCRIPTION:TOGA! TOGA!\n
X-ALT-DESC:FMTTYPE=text/html:<!DOCTYPE HTML PUBLIC "-//W3C//DTD HTML 3.2//E
 N"><HTML><p>TOGA! TOGA!</p>\n</HTML>
CREATED;TZID=Europe/Oslo:20180725T102912
URL;VALUE=URI:https://hohenfels.armymwr.com/calendar/event
DTSTART;TZID=Europe/Oslo:20180818T190000
DTEND;TZID=Europe/Oslo:20180818T200000
SEQUENCE:0
END:VEVENT
END:VCALENDAR
