BEGIN:VCALENDAR
VERSION:2.0
PRODID:-//Sabre//Sabre VObject 4.5.8//EN
CALSCALE:GREGORIAN
BEGIN:VEVENT
UID:sabre-vobject-17cdebd2-e070-4bfd-a76f-eeb29d7d1d2d
DTSTAMP:20260424T100850Z
SUMMARY:Tiki Time Luau
DESCRIPTION:It&#39\;s tiki time!\n
X-ALT-DESC:FMTTYPE=text/html:<!DOCTYPE HTML PUBLIC "-//W3C//DTD HTML 3.2//E
 N"><HTML><p>It&#39\;s tiki time!</p>\n</HTML>
CREATED;TZID=Europe/Oslo:20180718T100305
URL;VALUE=URI:https://hohenfels.armymwr.com/calendar/event
DTSTART;TZID=Europe/Oslo:20180727T190000
DTEND;TZID=Europe/Oslo:20180727T200000
SEQUENCE:0
END:VEVENT
END:VCALENDAR
