BEGIN:VCALENDAR
VERSION:2.0
PRODID:-//Sabre//Sabre VObject 4.5.8//EN
CALSCALE:GREGORIAN
BEGIN:VEVENT
UID:sabre-vobject-911a54ce-99ef-4af0-b06a-05401dfe4308
DTSTAMP:20260424T053009Z
SUMMARY:Eclectic Book Club 
DESCRIPTION:Let&#39\;s broaden our reading with a variety of eclectic books
 !\n
X-ALT-DESC:FMTTYPE=text/html:<!DOCTYPE HTML PUBLIC "-//W3C//DTD HTML 3.2//E
 N"><HTML><p>Let&#39\;s broaden our reading with a variety of eclectic book
 s!</p>\n</HTML>
CREATED;TZID=Europe/Oslo:20180629T110446
URL;VALUE=URI:https://hohenfels.armymwr.com/calendar/event
DTSTART;TZID=Europe/Oslo:20180710T170000
DTEND;TZID=Europe/Oslo:20180710T180000
SEQUENCE:0
END:VEVENT
END:VCALENDAR
