BEGIN:VCALENDAR
VERSION:2.0
PRODID:-//Sabre//Sabre VObject 4.5.8//EN
CALSCALE:GREGORIAN
BEGIN:VEVENT
UID:sabre-vobject-3ab4521d-776e-4786-99d3-f3857d57d555
DTSTAMP:20260424T054439Z
SUMMARY:Passports Club 
DESCRIPTION:A travel and reading challenge!\n
X-ALT-DESC:FMTTYPE=text/html:<!DOCTYPE HTML PUBLIC "-//W3C//DTD HTML 3.2//E
 N"><HTML><p>A travel and reading challenge!</p>\n</HTML>
CREATED;TZID=Europe/Oslo:20180713T102115
URL;VALUE=URI:https://hohenfels.armymwr.com/calendar/event
DTSTART;TZID=Europe/Oslo:20180624T130000
DTEND;TZID=Europe/Oslo:20180624T143000
SEQUENCE:0
END:VEVENT
END:VCALENDAR
