BEGIN:VCALENDAR
VERSION:2.0
PRODID:-//Sabre//Sabre VObject 4.5.8//EN
CALSCALE:GREGORIAN
BEGIN:VEVENT
UID:sabre-vobject-6f4aea8e-986d-4874-b346-15977b56592b
DTSTAMP:20260425T170621Z
SUMMARY:Dry Suit
DESCRIPTION:Learn skills to dive while using a dry suit.\n
X-ALT-DESC:FMTTYPE=text/html:<!DOCTYPE HTML PUBLIC "-//W3C//DTD HTML 3.2//E
 N"><HTML><p>Learn skills to dive while using a dry suit.</p>\n</HTML>
CREATED;TZID=Europe/Oslo:20180403T160240
URL;VALUE=URI:https://hohenfels.armymwr.com/calendar/event
DTSTART;TZID=Europe/Oslo:20180531T153000
DTEND;TZID=Europe/Oslo:20180531T163000
SEQUENCE:0
END:VEVENT
BEGIN:VEVENT
UID:sabre-vobject-6ef36b63-bf2f-451a-ad3c-2ead3c6c0b94
DTSTAMP:20260425T170621Z
SUMMARY:Dry Suit
DESCRIPTION:Learn skills to dive while using a dry suit.\n
X-ALT-DESC:FMTTYPE=text/html:<!DOCTYPE HTML PUBLIC "-//W3C//DTD HTML 3.2//E
 N"><HTML><p>Learn skills to dive while using a dry suit.</p>\n</HTML>
CREATED;TZID=Europe/Oslo:20180403T160240
URL;VALUE=URI:https://hohenfels.armymwr.com/calendar/event
DTSTART;TZID=Europe/Oslo:20180830T153000
DTEND;TZID=Europe/Oslo:20180830T163000
SEQUENCE:1
END:VEVENT
END:VCALENDAR
