BEGIN:VCALENDAR
VERSION:2.0
PRODID:-//Sabre//Sabre VObject 4.5.8//EN
CALSCALE:GREGORIAN
BEGIN:VEVENT
UID:sabre-vobject-2644c359-d171-4de1-a75b-84524356d7aa
DTSTAMP:20260423T074352Z
SUMMARY:Boat Diving
DESCRIPTION:Learn to dive safely from a boat!\n
X-ALT-DESC:FMTTYPE=text/html:<!DOCTYPE HTML PUBLIC "-//W3C//DTD HTML 3.2//E
 N"><HTML><p>Learn to dive safely from a boat!</p>\n</HTML>
CREATED;TZID=Europe/Oslo:20180403T151409
URL;VALUE=URI:https://hohenfels.armymwr.com/calendar/event
DTSTART;TZID=Europe/Oslo:20180430T150000
DTEND;TZID=Europe/Oslo:20180430T160000
SEQUENCE:0
END:VEVENT
BEGIN:VEVENT
UID:sabre-vobject-4abae4d2-dbeb-4d45-858c-9e737c3931cb
DTSTAMP:20260423T074352Z
SUMMARY:Boat Diving
DESCRIPTION:Learn to dive safely from a boat!\n
X-ALT-DESC:FMTTYPE=text/html:<!DOCTYPE HTML PUBLIC "-//W3C//DTD HTML 3.2//E
 N"><HTML><p>Learn to dive safely from a boat!</p>\n</HTML>
CREATED;TZID=Europe/Oslo:20180403T151409
URL;VALUE=URI:https://hohenfels.armymwr.com/calendar/event
DTSTART;TZID=Europe/Oslo:20180820T150000
DTEND;TZID=Europe/Oslo:20180820T160000
SEQUENCE:1
END:VEVENT
END:VCALENDAR
