BEGIN:VCALENDAR
VERSION:2.0
PRODID:-//Sabre//Sabre VObject 4.5.8//EN
CALSCALE:GREGORIAN
BEGIN:VEVENT
UID:sabre-vobject-b4386241-5f08-4253-9ee5-4b1af84508cc
DTSTAMP:20260423T003200Z
SUMMARY:Advanced Adventure Diver
DESCRIPTION:Sharpen your skills with five specialty dives!\n
X-ALT-DESC:FMTTYPE=text/html:<!DOCTYPE HTML PUBLIC "-//W3C//DTD HTML 3.2//E
 N"><HTML><p>Sharpen your skills with five specialty dives!</p>\n</HTML>
CREATED;TZID=Europe/Oslo:20180403T172119
URL;VALUE=URI:https://hohenfels.armymwr.com/calendar/event
DTSTART;TZID=Europe/Oslo:20180406T140000
DTEND;TZID=Europe/Oslo:20180406T150000
SEQUENCE:0
END:VEVENT
BEGIN:VEVENT
UID:sabre-vobject-d5ace27b-99fe-4d88-b75a-f004eaff7592
DTSTAMP:20260423T003200Z
SUMMARY:Advanced Adventure Diver
DESCRIPTION:Sharpen your skills with five specialty dives!\n
X-ALT-DESC:FMTTYPE=text/html:<!DOCTYPE HTML PUBLIC "-//W3C//DTD HTML 3.2//E
 N"><HTML><p>Sharpen your skills with five specialty dives!</p>\n</HTML>
CREATED;TZID=Europe/Oslo:20180403T172119
URL;VALUE=URI:https://hohenfels.armymwr.com/calendar/event
DTSTART;TZID=Europe/Oslo:20180511T140000
DTEND;TZID=Europe/Oslo:20180511T150000
SEQUENCE:1
END:VEVENT
BEGIN:VEVENT
UID:sabre-vobject-cb44de45-d8b3-4d19-8fd6-4dbca294c2fa
DTSTAMP:20260423T003200Z
SUMMARY:Advanced Adventure Diver
DESCRIPTION:Sharpen your skills with five specialty dives!\n
X-ALT-DESC:FMTTYPE=text/html:<!DOCTYPE HTML PUBLIC "-//W3C//DTD HTML 3.2//E
 N"><HTML><p>Sharpen your skills with five specialty dives!</p>\n</HTML>
CREATED;TZID=Europe/Oslo:20180403T172119
URL;VALUE=URI:https://hohenfels.armymwr.com/calendar/event
DTSTART;TZID=Europe/Oslo:20180608T140000
DTEND;TZID=Europe/Oslo:20180608T150000
SEQUENCE:2
END:VEVENT
BEGIN:VEVENT
UID:sabre-vobject-c679298d-86a8-4b7f-98fb-d0db46bf3680
DTSTAMP:20260423T003200Z
SUMMARY:Advanced Adventure Diver
DESCRIPTION:Sharpen your skills with five specialty dives!\n
X-ALT-DESC:FMTTYPE=text/html:<!DOCTYPE HTML PUBLIC "-//W3C//DTD HTML 3.2//E
 N"><HTML><p>Sharpen your skills with five specialty dives!</p>\n</HTML>
CREATED;TZID=Europe/Oslo:20180403T172119
URL;VALUE=URI:https://hohenfels.armymwr.com/calendar/event
DTSTART;TZID=Europe/Oslo:20180629T140000
DTEND;TZID=Europe/Oslo:20180629T150000
SEQUENCE:3
END:VEVENT
BEGIN:VEVENT
UID:sabre-vobject-f9b9a436-d1a0-43c0-b188-f5d7995b63d5
DTSTAMP:20260423T003200Z
SUMMARY:Advanced Adventure Diver
DESCRIPTION:Sharpen your skills with five specialty dives!\n
X-ALT-DESC:FMTTYPE=text/html:<!DOCTYPE HTML PUBLIC "-//W3C//DTD HTML 3.2//E
 N"><HTML><p>Sharpen your skills with five specialty dives!</p>\n</HTML>
CREATED;TZID=Europe/Oslo:20180403T172119
URL;VALUE=URI:https://hohenfels.armymwr.com/calendar/event
DTSTART;TZID=Europe/Oslo:20180810T140000
DTEND;TZID=Europe/Oslo:20180810T150000
SEQUENCE:4
END:VEVENT
BEGIN:VEVENT
UID:sabre-vobject-32169e2f-dcf5-4737-a06f-f066b8ac87f6
DTSTAMP:20260423T003200Z
SUMMARY:Advanced Adventure Diver
DESCRIPTION:Sharpen your skills with five specialty dives!\n
X-ALT-DESC:FMTTYPE=text/html:<!DOCTYPE HTML PUBLIC "-//W3C//DTD HTML 3.2//E
 N"><HTML><p>Sharpen your skills with five specialty dives!</p>\n</HTML>
CREATED;TZID=Europe/Oslo:20180403T172119
URL;VALUE=URI:https://hohenfels.armymwr.com/calendar/event
DTSTART;TZID=Europe/Oslo:20180907T140000
DTEND;TZID=Europe/Oslo:20180907T150000
SEQUENCE:5
END:VEVENT
END:VCALENDAR
