BEGIN:VCALENDAR
VERSION:2.0
PRODID:-//Sabre//Sabre VObject 4.5.8//EN
CALSCALE:GREGORIAN
BEGIN:VEVENT
UID:sabre-vobject-dd445de9-e6a7-411b-b27b-c89ee90085fb
DTSTAMP:20260423T030034Z
SUMMARY:Tandem Sky Diving 
DESCRIPTION:Check this off the bucket list!\n
X-ALT-DESC:FMTTYPE=text/html:<!DOCTYPE HTML PUBLIC "-//W3C//DTD HTML 3.2//E
 N"><HTML><p>Check this off the bucket list!</p>\n</HTML>
CREATED;TZID=Europe/Oslo:20180402T165625
URL;VALUE=URI:https://hohenfels.armymwr.com/calendar/event
DTSTART;TZID=Europe/Oslo:20180420T163000
DTEND;TZID=Europe/Oslo:20180420T173000
SEQUENCE:0
END:VEVENT
BEGIN:VEVENT
UID:sabre-vobject-05046ae6-3687-4933-a73b-69d01ca174ef
DTSTAMP:20260423T030034Z
SUMMARY:Tandem Sky Diving 
DESCRIPTION:Check this off the bucket list!\n
X-ALT-DESC:FMTTYPE=text/html:<!DOCTYPE HTML PUBLIC "-//W3C//DTD HTML 3.2//E
 N"><HTML><p>Check this off the bucket list!</p>\n</HTML>
CREATED;TZID=Europe/Oslo:20180402T165625
URL;VALUE=URI:https://hohenfels.armymwr.com/calendar/event
DTSTART;TZID=Europe/Oslo:20180522T163000
DTEND;TZID=Europe/Oslo:20180522T173000
SEQUENCE:1
END:VEVENT
BEGIN:VEVENT
UID:sabre-vobject-02c97001-d9c6-4548-a1fe-abade7831579
DTSTAMP:20260423T030034Z
SUMMARY:Tandem Sky Diving 
DESCRIPTION:Check this off the bucket list!\n
X-ALT-DESC:FMTTYPE=text/html:<!DOCTYPE HTML PUBLIC "-//W3C//DTD HTML 3.2//E
 N"><HTML><p>Check this off the bucket list!</p>\n</HTML>
CREATED;TZID=Europe/Oslo:20180402T165625
URL;VALUE=URI:https://hohenfels.armymwr.com/calendar/event
DTSTART;TZID=Europe/Oslo:20180615T163000
DTEND;TZID=Europe/Oslo:20180615T173000
SEQUENCE:2
END:VEVENT
BEGIN:VEVENT
UID:sabre-vobject-bf303b65-cadb-42b8-b41a-c47352a684a2
DTSTAMP:20260423T030034Z
SUMMARY:Tandem Sky Diving 
DESCRIPTION:Check this off the bucket list!\n
X-ALT-DESC:FMTTYPE=text/html:<!DOCTYPE HTML PUBLIC "-//W3C//DTD HTML 3.2//E
 N"><HTML><p>Check this off the bucket list!</p>\n</HTML>
CREATED;TZID=Europe/Oslo:20180402T165625
URL;VALUE=URI:https://hohenfels.armymwr.com/calendar/event
DTSTART;TZID=Europe/Oslo:20180713T163000
DTEND;TZID=Europe/Oslo:20180713T173000
SEQUENCE:3
END:VEVENT
BEGIN:VEVENT
UID:sabre-vobject-b7fdc296-3847-4c1b-9262-4a066116f0ec
DTSTAMP:20260423T030034Z
SUMMARY:Tandem Sky Diving 
DESCRIPTION:Check this off the bucket list!\n
X-ALT-DESC:FMTTYPE=text/html:<!DOCTYPE HTML PUBLIC "-//W3C//DTD HTML 3.2//E
 N"><HTML><p>Check this off the bucket list!</p>\n</HTML>
CREATED;TZID=Europe/Oslo:20180402T165625
URL;VALUE=URI:https://hohenfels.armymwr.com/calendar/event
DTSTART;TZID=Europe/Oslo:20180803T163000
DTEND;TZID=Europe/Oslo:20180803T173000
SEQUENCE:4
END:VEVENT
BEGIN:VEVENT
UID:sabre-vobject-a6d350a6-4de7-456f-96e5-d7ff6a8f9897
DTSTAMP:20260423T030034Z
SUMMARY:Tandem Sky Diving 
DESCRIPTION:Check this off the bucket list!\n
X-ALT-DESC:FMTTYPE=text/html:<!DOCTYPE HTML PUBLIC "-//W3C//DTD HTML 3.2//E
 N"><HTML><p>Check this off the bucket list!</p>\n</HTML>
CREATED;TZID=Europe/Oslo:20180402T165625
URL;VALUE=URI:https://hohenfels.armymwr.com/calendar/event
DTSTART;TZID=Europe/Oslo:20180831T163000
DTEND;TZID=Europe/Oslo:20180831T173000
SEQUENCE:5
END:VEVENT
END:VCALENDAR
