BEGIN:VCALENDAR
VERSION:2.0
PRODID:-//Sabre//Sabre VObject 4.5.8//EN
CALSCALE:GREGORIAN
BEGIN:VEVENT
UID:sabre-vobject-c1865c7d-ad3b-406b-a17d-3931e73fce32
DTSTAMP:20260424T203916Z
SUMMARY:Survival German 301
DESCRIPTION:Add greater confidence\, vocabulary and enlightenment into your
  German language ability.\n
X-ALT-DESC:FMTTYPE=text/html:<!DOCTYPE HTML PUBLIC "-//W3C//DTD HTML 3.2//E
 N"><HTML><p>Add greater confidence\, vocabulary and enlightenment into you
 r German language ability.</p>\n</HTML>
CREATED;TZID=Europe/Oslo:20180627T110215
URL;VALUE=URI:https://hohenfels.armymwr.com/calendar/event
DTSTART;TZID=Europe/Oslo:20180719T093000
DTEND;TZID=Europe/Oslo:20180719T113000
SEQUENCE:0
END:VEVENT
END:VCALENDAR
