BEGIN:VCALENDAR
VERSION:2.0
PRODID:-//Sabre//Sabre VObject 4.5.8//EN
CALSCALE:GREGORIAN
BEGIN:VEVENT
UID:sabre-vobject-b97aebf9-437a-4d3b-b810-b394c5fd74a8
DTSTAMP:20260424T004713Z
SUMMARY:Thirft Savings Plan
DESCRIPTION:Start planning your retirement!\n
X-ALT-DESC:FMTTYPE=text/html:<!DOCTYPE HTML PUBLIC "-//W3C//DTD HTML 3.2//E
 N"><HTML><p>Start planning your retirement!</p>\n</HTML>
CREATED;TZID=Europe/Oslo:20180725T142447
URL;VALUE=URI:https://hohenfels.armymwr.com/calendar/event
DTSTART;TZID=Europe/Oslo:20180118T133000
DTEND;TZID=Europe/Oslo:20180118T143000
SEQUENCE:0
END:VEVENT
BEGIN:VEVENT
UID:sabre-vobject-f2b8b209-0e93-4270-b062-0c4bd499e48e
DTSTAMP:20260424T004713Z
SUMMARY:Thirft Savings Plan
DESCRIPTION:Start planning your retirement!\n
X-ALT-DESC:FMTTYPE=text/html:<!DOCTYPE HTML PUBLIC "-//W3C//DTD HTML 3.2//E
 N"><HTML><p>Start planning your retirement!</p>\n</HTML>
CREATED;TZID=Europe/Oslo:20180725T142447
URL;VALUE=URI:https://hohenfels.armymwr.com/calendar/event
DTSTART;TZID=Europe/Oslo:20180315T103000
DTEND;TZID=Europe/Oslo:20180315T113000
SEQUENCE:1
END:VEVENT
BEGIN:VEVENT
UID:sabre-vobject-621a9916-34e7-4395-bb25-8efd6009e30d
DTSTAMP:20260424T004713Z
SUMMARY:Thirft Savings Plan
DESCRIPTION:Start planning your retirement!\n
X-ALT-DESC:FMTTYPE=text/html:<!DOCTYPE HTML PUBLIC "-//W3C//DTD HTML 3.2//E
 N"><HTML><p>Start planning your retirement!</p>\n</HTML>
CREATED;TZID=Europe/Oslo:20180725T142447
URL;VALUE=URI:https://hohenfels.armymwr.com/calendar/event
DTSTART;TZID=Europe/Oslo:20180419T133000
DTEND;TZID=Europe/Oslo:20180419T143000
SEQUENCE:2
END:VEVENT
BEGIN:VEVENT
UID:sabre-vobject-fc40c70f-071a-457a-bb6c-3da68dca59cf
DTSTAMP:20260424T004713Z
SUMMARY:Thirft Savings Plan
DESCRIPTION:Start planning your retirement!\n
X-ALT-DESC:FMTTYPE=text/html:<!DOCTYPE HTML PUBLIC "-//W3C//DTD HTML 3.2//E
 N"><HTML><p>Start planning your retirement!</p>\n</HTML>
CREATED;TZID=Europe/Oslo:20180725T142447
URL;VALUE=URI:https://hohenfels.armymwr.com/calendar/event
DTSTART;TZID=Europe/Oslo:20180523T103000
DTEND;TZID=Europe/Oslo:20180523T113000
SEQUENCE:3
END:VEVENT
BEGIN:VEVENT
UID:sabre-vobject-91984d2a-c497-4ccb-9418-8f1f792d01ce
DTSTAMP:20260424T004713Z
SUMMARY:Thirft Savings Plan
DESCRIPTION:Start planning your retirement!\n
X-ALT-DESC:FMTTYPE=text/html:<!DOCTYPE HTML PUBLIC "-//W3C//DTD HTML 3.2//E
 N"><HTML><p>Start planning your retirement!</p>\n</HTML>
CREATED;TZID=Europe/Oslo:20180725T142447
URL;VALUE=URI:https://hohenfels.armymwr.com/calendar/event
DTSTART;TZID=Europe/Oslo:20180816T133000
DTEND;TZID=Europe/Oslo:20180816T143000
SEQUENCE:4
END:VEVENT
END:VCALENDAR
