BEGIN:VCALENDAR
VERSION:2.0
PRODID:-//Sabre//Sabre VObject 4.5.8//EN
CALSCALE:GREGORIAN
BEGIN:VEVENT
UID:sabre-vobject-64e50bc1-0fa4-4302-9241-66b2400966c3
DTSTAMP:20260420T131752Z
SUMMARY:Anger Management
DESCRIPTION:Simmer down!\n
X-ALT-DESC:FMTTYPE=text/html:<!DOCTYPE HTML PUBLIC "-//W3C//DTD HTML 3.2//E
 N"><HTML><p>Simmer down!</p>\n</HTML>
CREATED;TZID=Europe/Oslo:20190219T105830
URL;VALUE=URI:https://hohenfels.armymwr.com/calendar/event
DTSTART;TZID=Europe/Oslo:20170919T100000
DTEND;TZID=Europe/Oslo:20170919T110000
SEQUENCE:0
END:VEVENT
BEGIN:VEVENT
UID:sabre-vobject-857e3522-1a92-4aa0-ac6b-ccf376c24dcd
DTSTAMP:20260420T131752Z
SUMMARY:Anger Management
DESCRIPTION:Simmer down!\n
X-ALT-DESC:FMTTYPE=text/html:<!DOCTYPE HTML PUBLIC "-//W3C//DTD HTML 3.2//E
 N"><HTML><p>Simmer down!</p>\n</HTML>
CREATED;TZID=Europe/Oslo:20190219T105830
URL;VALUE=URI:https://hohenfels.armymwr.com/calendar/event
DTSTART;TZID=Europe/Oslo:20171017T100000
DTEND;TZID=Europe/Oslo:20171017T110000
SEQUENCE:1
END:VEVENT
BEGIN:VEVENT
UID:sabre-vobject-8adb3f3d-f2e2-43c4-9439-e8bbcbd7286b
DTSTAMP:20260420T131752Z
SUMMARY:Anger Management
DESCRIPTION:Simmer down!\n
X-ALT-DESC:FMTTYPE=text/html:<!DOCTYPE HTML PUBLIC "-//W3C//DTD HTML 3.2//E
 N"><HTML><p>Simmer down!</p>\n</HTML>
CREATED;TZID=Europe/Oslo:20190219T105830
URL;VALUE=URI:https://hohenfels.armymwr.com/calendar/event
DTSTART;TZID=Europe/Oslo:20171121T100000
DTEND;TZID=Europe/Oslo:20171121T110000
SEQUENCE:2
END:VEVENT
BEGIN:VEVENT
UID:sabre-vobject-4c2161b8-40e1-4ae2-ab23-7972776c2bd2
DTSTAMP:20260420T131752Z
SUMMARY:Anger Management
DESCRIPTION:Simmer down!\n
X-ALT-DESC:FMTTYPE=text/html:<!DOCTYPE HTML PUBLIC "-//W3C//DTD HTML 3.2//E
 N"><HTML><p>Simmer down!</p>\n</HTML>
CREATED;TZID=Europe/Oslo:20190219T105830
URL;VALUE=URI:https://hohenfels.armymwr.com/calendar/event
DTSTART;TZID=Europe/Oslo:20171219T100000
DTEND;TZID=Europe/Oslo:20171219T110000
SEQUENCE:3
END:VEVENT
BEGIN:VEVENT
UID:sabre-vobject-bb6b9c7f-4b80-41aa-b685-9aa449892258
DTSTAMP:20260420T131752Z
SUMMARY:Anger Management
DESCRIPTION:Simmer down!\n
X-ALT-DESC:FMTTYPE=text/html:<!DOCTYPE HTML PUBLIC "-//W3C//DTD HTML 3.2//E
 N"><HTML><p>Simmer down!</p>\n</HTML>
CREATED;TZID=Europe/Oslo:20190219T105830
URL;VALUE=URI:https://hohenfels.armymwr.com/calendar/event
DTSTART;TZID=Europe/Oslo:20180116T100000
DTEND;TZID=Europe/Oslo:20180116T110000
SEQUENCE:4
END:VEVENT
END:VCALENDAR
